BEGIN:VCALENDAR
VERSION:2.0
PRODID:-//hacksw/handcal//NONSGML v1.0//EN
BEGIN:VEVENT
DTSTAMP:20260416T170000Z
DTSTART:20260416T170000Z
DTEND:20260416T170000Z
LOCATION:Rathaus, Sitzungsraum II/III - R. 105/106, Hauptstraße 16, Wentorf bei Hamburg, 21465, Deutschland
SUMMARY:Sitzung des Liegenschaftsausschusses
END:VEVENT
BEGIN:VEVENT
DTSTAMP:20260415T170000Z
DTSTART:20260415T170000Z
DTEND:20260415T170000Z
LOCATION:Alte Schule, Teichstraße 1, Wentorf bei Hamburg, 21465, Deutschland
SUMMARY:6. Wentorfer Gespräch - "Schulen, Spielplätze und Winterdienst"
END:VEVENT
BEGIN:VEVENT
DTSTAMP:20260414T170000Z
DTSTART:20260414T170000Z
DTEND:20260414T170000Z
LOCATION:Rathaus, Sitzungsraum II (Raum 105), Hauptstraße 16, Wentorf bei Hamburg, 21465, Deutschland
SUMMARY:Sitzung der CDU-Fraktion
END:VEVENT
BEGIN:VEVENT
DTSTAMP:20260406T090000Z
DTSTART:20260406T090000Z
DTEND:20260406T090000Z
LOCATION:Am Prisma, Hauptstraße 14a, Wentorf, 21465, Deutschland
SUMMARY:Malwettbewerb und Ostereiersuchen
END:VEVENT
BEGIN:VEVENT
DTSTAMP:20260318T180000Z
DTSTART:20260318T180000Z
DTEND:20260318T180000Z
LOCATION:Alte Schule, Teichstraße 1, Wentorf, 21465, Deutschland
SUMMARY:Wentorfer Jour Fixe fällt aus!
END:VEVENT
BEGIN:VEVENT
DTSTAMP:20260312T180000Z
DTSTART:20260312T180000Z
DTEND:20260312T180000Z
LOCATION:Rathaus, Sitzungsraum II/III - R. 105/106, Deutschland
SUMMARY:Sitzung des Finanzausschusses
END:VEVENT
BEGIN:VEVENT
DTSTAMP:20260311T180000Z
DTSTART:20260311T180000Z
DTEND:20260311T180000Z
LOCATION:Rathaus Wentorf, Deutschland
SUMMARY:Sitzung des Ortsvorstands
END:VEVENT
BEGIN:VEVENT
DTSTAMP:20260310T180000Z
DTSTART:20260310T180000Z
DTEND:20260310T180000Z
LOCATION:Rathaus, Sitzungsraum II (Raum 105), Hauptstraße 16, Wentorf, 21465, Deutschland
SUMMARY:Sitzung der CDU-Fraktion
END:VEVENT
BEGIN:VEVENT
DTSTAMP:20260309T180000Z
DTSTART:20260309T180000Z
DTEND:20260309T180000Z
LOCATION:Rathaus, Sitzungsraum II/III - R. 105/106, Deutschland
SUMMARY:Sitzung des Bürgerausschusses
END:VEVENT
BEGIN:VEVENT
DTSTAMP:20260307T090000Z
DTSTART:20260307T090000Z
DTEND:20260307T110000Z
LOCATION:Rathaus Wentorf, Deutschland
SUMMARY:Frühjahrsputz - Unser sauberes Schleswig-Holstein
END:VEVENT
BEGIN:VEVENT
DTSTAMP:20260305T180000Z
DTSTART:20260305T180000Z
DTEND:20260305T180000Z
LOCATION:Rathaus, Sitzungsraum II/III - R. 105/106, Deutschland
SUMMARY:Sitzung des Liegenschaftsausschusses
END:VEVENT
BEGIN:VEVENT
DTSTAMP:20260226T230000Z
DTSTART:20260226T230000Z
DTEND:20260227T230000Z
SUMMARY:Klausurtagung der Fraktion
END:VEVENT
BEGIN:VEVENT
DTSTAMP:20260226T180000Z
DTSTART:20260226T180000Z
DTEND:20260226T180000Z
LOCATION:Rathaus, Sitzungsraum II/III - R. 105/106, Hauptstraße 16, Wentorf, 21465, Deutschland
SUMMARY:Sitzung des Planungs- und Umweltausschusses
END:VEVENT
BEGIN:VEVENT
DTSTAMP:20260224T180000Z
DTSTART:20260224T180000Z
DTEND:20260224T180000Z
LOCATION:Rathaus, Sitzungsraum II (Raum 105), Hauptstraße 16, Wentorf, 21465, Deutschland
SUMMARY:Sitzung der CDU-Fraktion
END:VEVENT
BEGIN:VEVENT
DTSTAMP:20260218T180000Z
DTSTART:20260218T180000Z
DTEND:20260218T180000Z
LOCATION:Alte Schule, Teichstraße 1, Wentorf, 21465, Deutschland
SUMMARY:Jahreshauptversammlung der CDU Wentorf
END:VEVENT
BEGIN:VEVENT
DTSTAMP:20260216T180000Z
DTSTART:20260216T180000Z
DTEND:20260216T180000Z
LOCATION:Rathaus, Sitzungsraum II/III - R. 105/106, Deutschland
SUMMARY:Sitzung des Hauptausschusses
END:VEVENT
BEGIN:VEVENT
DTSTAMP:20260216T173000Z
DTSTART:20260216T173000Z
DTEND:20260216T173000Z
LOCATION:Rathaus, Sitzungsraum II/III - R. 105/106, Deutschland
SUMMARY:Sitzung der Gemeindevertretung
END:VEVENT
BEGIN:VEVENT
DTSTAMP:20260211T180000Z
DTSTART:20260211T180000Z
DTEND:20260211T180000Z
LOCATION:Reinbeker Schloss, Deutschland
SUMMARY:Traditionelles Entenessen der CDU Reinbek (nur mit Anmeldung)
END:VEVENT
BEGIN:VEVENT
DTSTAMP:20260210T180000Z
DTSTART:20260210T180000Z
DTEND:20260210T180000Z
LOCATION:Rathaus, Sitzungsraum II (Raum 105), Hauptstraße 16, Wentorf, 21465, Deutschland
SUMMARY:Sitzung der CDU-Fraktion
END:VEVENT
BEGIN:VEVENT
DTSTAMP:20260204T180000Z
DTSTART:20260204T180000Z
DTEND:20260204T180000Z
LOCATION:Alte Schule, Teichstraße 1, Wentorf, 21465, Deutschland
SUMMARY:CDU-Bürgerdialog mit dem Kreisvorsitzenden Rasmus Vöge, MdL
END:VEVENT
BEGIN:VEVENT
DTSTAMP:20260129T180000Z
DTSTART:20260129T180000Z
DTEND:20260129T180000Z
LOCATION:Rathaus, Sitzungsraum II/III - R. 105/106, Hauptstraße 16, Wentorf, 21465, Deutschland
SUMMARY:Sitzung des Planungs- und Umweltausschusses
END:VEVENT
BEGIN:VEVENT
DTSTAMP:20260127T180000Z
DTSTART:20260127T180000Z
DTEND:20260127T180000Z
LOCATION:Rathaus, Sitzungsraum II (Raum 105), Hauptstraße 16, Wentorf, 21465, Deutschland
SUMMARY:Sitzung der CDU-Fraktion
END:VEVENT
BEGIN:VEVENT
DTSTAMP:20260121T180000Z
DTSTART:20260121T180000Z
DTEND:20260121T180000Z
LOCATION:Alte Schule, Teichstraße 1, Wentorf, 21465, Deutschland
SUMMARY:Wentorfer Jour Fixe
END:VEVENT
BEGIN:VEVENT
DTSTAMP:20260113T180000Z
DTSTART:20260113T180000Z
DTEND:20260113T180000Z
LOCATION:Rathaus, Sitzungsraum II (Raum 105), Hauptstraße 16, Wentorf, 21465, Deutschland
SUMMARY:Sitzung der CDU-Fraktion
END:VEVENT
BEGIN:VEVENT
DTSTAMP:20260112T180000Z
DTSTART:20260112T180000Z
DTEND:20260112T180000Z
LOCATION:Rathaus, Hauptstraße 16, Wentorf, 21465, Deutschland
SUMMARY:Neujahrsempfang der Gemeinde Wentorf
END:VEVENT
BEGIN:VEVENT
DTSTAMP:20251218T180000Z
DTSTART:20251218T180000Z
DTEND:20251218T180000Z
LOCATION:Rathaus, Sitzungsraum II/III - R. 105/106, Deutschland
SUMMARY:Sitzung der Gemeindevertretung
END:VEVENT
BEGIN:VEVENT
DTSTAMP:20251215T180000Z
DTSTART:20251215T180000Z
DTEND:20251215T180000Z
LOCATION:Rathaus, Sitzungsraum II/III - R. 105/106, Deutschland
SUMMARY:Sitzung des Hauptausschusses
END:VEVENT
BEGIN:VEVENT
DTSTAMP:20251211T180000Z
DTSTART:20251211T180000Z
DTEND:20251211T180000Z
LOCATION:Rathaus, Sitzungsraum II/III - R. 105/106, Hauptstraße 16, Wentorf bei Hamburg, 21465, Deutschland
SUMMARY:Sitzung des Planungs- und Umweltausschusses
END:VEVENT
BEGIN:VEVENT
DTSTAMP:20251209T180000Z
DTSTART:20251209T180000Z
DTEND:20251209T180000Z
LOCATION:Rathaus, Sitzungsraum II (Raum 105), Deutschland
SUMMARY:Sitzung der CDU-Fraktion
END:VEVENT
BEGIN:VEVENT
DTSTAMP:20251203T173000Z
DTSTART:20251203T173000Z
DTEND:20251203T173000Z
LOCATION:Alte Schule, Teichstraße 1, Wentorf bei Hamburg, 21465, Deutschland
SUMMARY:Politischer Punschabend
END:VEVENT
BEGIN:VEVENT
DTSTAMP:20251202T180000Z
DTSTART:20251202T180000Z
DTEND:20251202T180000Z
LOCATION:Rathaus, Sitzungsraum II/III - R. 105/106, Deutschland
SUMMARY:Sitzung des Liegenschaftsausschusses
END:VEVENT
BEGIN:VEVENT
DTSTAMP:20251201T180000Z
DTSTART:20251201T180000Z
DTEND:20251201T180000Z
LOCATION:Rathaus, Sitzungsraum II/III - R. 105/106, Deutschland
SUMMARY:Sitzung des Bürgerausschusses
END:VEVENT
BEGIN:VEVENT
DTSTAMP:20251129T090000Z
DTSTART:20251129T090000Z
DTEND:20251129T160000Z
LOCATION:Rathaus, Bücherei, Prisma und Alte Schule, Deutschland
SUMMARY:Adventorfer Markt
END:VEVENT
BEGIN:VEVENT
DTSTAMP:20251126T180000Z
DTSTART:20251126T180000Z
DTEND:20251126T180000Z
LOCATION:Rathaus, Sitzungsraum II (Raum 105), Deutschland
SUMMARY:Sitzung der CDU-Fraktion
END:VEVENT
BEGIN:VEVENT
DTSTAMP:20251125T180000Z
DTSTART:20251125T180000Z
DTEND:20251125T180000Z
LOCATION:Gemeinschaftsschule - Aula, Achtern Höben 3, Wentorf bei Hamburg, 21465, Deutschland
SUMMARY:Gemeinsame Sitzung des Bürger- und Liegenschaftsausschusses
END:VEVENT
BEGIN:VEVENT
DTSTAMP:20251120T180000Z
DTSTART:20251120T180000Z
DTEND:20251120T180000Z
LOCATION:Rathaus, Sitzungsraum II/III - R. 105/106, Deutschland
SUMMARY:Sitzung der Gemeindevertretung
END:VEVENT
BEGIN:VEVENT
DTSTAMP:20251118T180000Z
DTSTART:20251118T180000Z
DTEND:20251118T180000Z
LOCATION:Rathaus, Sitzungsraum II/III - R. 105/106, Deutschland
SUMMARY:Sitzung des Finanzausschusses
END:VEVENT
BEGIN:VEVENT
DTSTAMP:20251118T180000Z
DTSTART:20251118T180000Z
DTEND:20251118T180000Z
LOCATION:Rathaus, Sitzungsraum II/III - R. 105/106, Deutschland
SUMMARY:Sitzung des Finanzausschusses
END:VEVENT
BEGIN:VEVENT
DTSTAMP:20251117T180000Z
DTSTART:20251117T180000Z
DTEND:20251117T180000Z
LOCATION:Rathaus, Sitzungsraum II/III - R. 105/106, Deutschland
SUMMARY:Sitzung des Hauptausschusses
END:VEVENT
BEGIN:VEVENT
DTSTAMP:20251116T103000Z
DTSTART:20251116T103000Z
DTEND:20251116T103000Z
LOCATION:Platz vor dem Rathaus, Hauptstraße 16, Wentorf bei Hamburg, 21465, Deutschland
SUMMARY:Gedenkstunde zum Volkstrauertag
END:VEVENT
BEGIN:VEVENT
DTSTAMP:20251113T180000Z
DTSTART:20251113T180000Z
DTEND:20251113T180000Z
LOCATION:Rathaus, Sitzungsraum II/III - R. 105/106, Hauptstraße 16, Wentorf bei Hamburg, 21465, Deutschland
SUMMARY:Sitzung des Planungs- und Umweltausschusses
END:VEVENT
BEGIN:VEVENT
DTSTAMP:20251112T183000Z
DTSTART:20251112T183000Z
DTEND:20251112T183000Z
LOCATION:Alte Schule, Teichstraße 1, Wentorf bei Hamburg, 21465, Deutschland
SUMMARY:5. Wentorfer Gespräch - "Halbzeit"
END:VEVENT
BEGIN:VEVENT
DTSTAMP:20251111T180000Z
DTSTART:20251111T180000Z
DTEND:20251111T180000Z
LOCATION:Rathaus, Sitzungsraum II (Raum 105), Deutschland
SUMMARY:Sitzung der CDU-Fraktion
END:VEVENT
BEGIN:VEVENT
DTSTAMP:20251110T180000Z
DTSTART:20251110T180000Z
DTEND:20251110T180000Z
LOCATION:Rathaus, Sitzungsraum II/III - R. 105/106, Deutschland
SUMMARY:Sitzung des Bürgerausschusses
END:VEVENT
BEGIN:VEVENT
DTSTAMP:20251106T180000Z
DTSTART:20251106T180000Z
DTEND:20251106T180000Z
LOCATION:Rathaus, Sitzungsraum II/III - R. 105/106, Deutschland
SUMMARY:Sitzung des Liegenschaftsausschusses
END:VEVENT
BEGIN:VEVENT
DTSTAMP:20251104T180000Z
DTSTART:20251104T180000Z
DTEND:20251104T180000Z
LOCATION:Rathaus, Sitzungsraum II (Raum 105), Deutschland
SUMMARY:Sitzung der CDU-Fraktion
END:VEVENT
BEGIN:VEVENT
DTSTAMP:20251024T160000Z
DTSTART:20251024T160000Z
DTEND:20251024T180000Z
LOCATION:Alte Schule, Teichstraße 1, Wentorf bei Hamburg, 21465, Deutschland
SUMMARY:Bürgersprechstunde mit Henri Schmidt
END:VEVENT
BEGIN:VEVENT
DTSTAMP:20251016T170000Z
DTSTART:20251016T170000Z
DTEND:20251016T170000Z
LOCATION:Rathaus, Sitzungsraum II/III - R. 105/106, Deutschland
SUMMARY:Sitzung des Finanzausschusses
END:VEVENT
BEGIN:VEVENT
DTSTAMP:20251014T170000Z
DTSTART:20251014T170000Z
DTEND:20251014T170000Z
LOCATION:Rathaus, Sitzungsraum II (Raum 105), Deutschland
SUMMARY:Sitzung der CDU-Fraktion
END:VEVENT
BEGIN:VEVENT
DTSTAMP:20251013T170000Z
DTSTART:20251013T170000Z
DTEND:20251013T170000Z
LOCATION:Rathaus, Sitzungsraum II/III - R. 105/106, Deutschland
SUMMARY:Sitzung des Hauptausschusses
END:VEVENT
BEGIN:VEVENT
DTSTAMP:20251009T163000Z
DTSTART:20251009T163000Z
DTEND:20251009T163000Z
LOCATION:Jotin‘s STEAKHOUSE Wentorf, Zollstraße 5, Wentorf bei Hamburg, 21465, Deutschland
SUMMARY:Offener Stammtisch
END:VEVENT
BEGIN:VEVENT
DTSTAMP:20250929T170000Z
DTSTART:20250929T170000Z
DTEND:20250929T170000Z
LOCATION:Rathaus, Sitzungsraum II/III - R. 105/106, Deutschland
SUMMARY:Sitzung des Bürgerausschusses
END:VEVENT
BEGIN:VEVENT
DTSTAMP:20250924T170000Z
DTSTART:20250924T170000Z
DTEND:20250924T170000Z
LOCATION:Rathaus, Sitzungsraum II/III - R. 105/106, Hauptstraße 16, Wentorf bei Hamburg, 21465, Deutschland
SUMMARY:Sitzung des Planungs- und Umweltausschusses
END:VEVENT
BEGIN:VEVENT
DTSTAMP:20250923T170000Z
DTSTART:20250923T170000Z
DTEND:20250923T170000Z
LOCATION:Rathaus, Sitzungsraum II (Raum 105), Deutschland
SUMMARY:Sitzung der CDU-Fraktion
END:VEVENT
BEGIN:VEVENT
DTSTAMP:20250918T170000Z
DTSTART:20250918T170000Z
DTEND:20250918T170000Z
LOCATION:Rathaus, Sitzungsraum II/III - R. 105/106, Deutschland
SUMMARY:Sitzung der Gemeindevertretung
END:VEVENT
BEGIN:VEVENT
DTSTAMP:20250916T170000Z
DTSTART:20250916T170000Z
DTEND:20250916T170000Z
LOCATION:Rathaus, Sitzungsraum II/III - R. 105/106, Deutschland
SUMMARY:Sitzung des Finanzausschusses
END:VEVENT
BEGIN:VEVENT
DTSTAMP:20250915T170000Z
DTSTART:20250915T170000Z
DTEND:20250915T170000Z
LOCATION:Rathaus, Sitzungsraum II/III - R. 105/106, Deutschland
SUMMARY:Sitzung des Hauptausschusses
END:VEVENT
BEGIN:VEVENT
DTSTAMP:20250911T170000Z
DTSTART:20250911T170000Z
DTEND:20250911T170000Z
LOCATION:Rathaus, Sitzungsraum II/III - R. 105/106, Deutschland
SUMMARY:Sitzung des Liegenschaftsausschusses
END:VEVENT
BEGIN:VEVENT
DTSTAMP:20250909T170000Z
DTSTART:20250909T170000Z
DTEND:20250909T170000Z
LOCATION:Rathaus, Sitzungsraum II (Raum 105), Deutschland
SUMMARY:Sitzung der CDU-Fraktion
END:VEVENT
BEGIN:VEVENT
DTSTAMP:20250724T170000Z
DTSTART:20250724T170000Z
DTEND:20250724T170000Z
LOCATION:Rathaus, Sitzungsraum II/III - R. 105/106, Hauptstraße 16, Wentorf bei Hamburg, 21465, Deutschland
SUMMARY:Sitzung des Planungs- und Umweltausschusses
END:VEVENT
BEGIN:VEVENT
DTSTAMP:20250722T170000Z
DTSTART:20250722T170000Z
DTEND:20250722T170000Z
LOCATION:Rathaus, Sitzungsraum II (Raum 105), Deutschland
SUMMARY:Sitzung der CDU-Fraktion
END:VEVENT
BEGIN:VEVENT
DTSTAMP:20250713T080000Z
DTSTART:20250713T080000Z
DTEND:20250713T160000Z
LOCATION:Landtag SH, Düsternbrooker Weg 70, Kiel, 24105, Deutschland
SUMMARY:Tag der offenen Tür im Schleswig-Holsteinischen Landtag
END:VEVENT
BEGIN:VEVENT
DTSTAMP:20250708T170000Z
DTSTART:20250708T170000Z
DTEND:20250708T170000Z
LOCATION:Rathaus, Sitzungsraum II (Raum 105), Deutschland
SUMMARY:Sitzung der CDU-Fraktion
END:VEVENT
BEGIN:VEVENT
DTSTAMP:20250701T170000Z
DTSTART:20250701T170000Z
DTEND:20250701T170000Z
LOCATION:Rathaus, Sitzungsraum II/III - R. 105/106, Deutschland
SUMMARY:Sitzung des Rechnungsprüfungsausschusses
END:VEVENT
BEGIN:VEVENT
DTSTAMP:20250630T170000Z
DTSTART:20250630T170000Z
DTEND:20250630T170000Z
LOCATION:Rathaus, Sitzungsraum II/III - R. 105/106, Deutschland
SUMMARY:Sitzung des Bürgerausschusses
END:VEVENT
BEGIN:VEVENT
DTSTAMP:20250625T170000Z
DTSTART:20250625T170000Z
DTEND:20250625T170000Z
LOCATION:Rathaus, Sitzungsraum II/III - R. 105/106, Hauptstraße 16, Wentorf bei Hamburg, 21465, Deutschland
SUMMARY:Sitzung des Planungs- und Umweltausschusses
END:VEVENT
BEGIN:VEVENT
DTSTAMP:20250624T170000Z
DTSTART:20250624T170000Z
DTEND:20250624T170000Z
LOCATION:Rathaus, Sitzungsraum II (Raum 105), Deutschland
SUMMARY:Sitzung der CDU-Fraktion
END:VEVENT
BEGIN:VEVENT
DTSTAMP:20250619T170000Z
DTSTART:20250619T170000Z
DTEND:20250619T170000Z
LOCATION:Rathaus, Sitzungsraum II/III - R. 105/106, Deutschland
SUMMARY:Sitzung der Gemeindevertretung
END:VEVENT
BEGIN:VEVENT
DTSTAMP:20250614T150000Z
DTSTART:20250614T150000Z
DTEND:20250614T150000Z
LOCATION:Rathaus Wentorf, Hauptstraße 16, Wentorf, 21465, Deutschland
SUMMARY:Wentorfer Fest am Rathaus
END:VEVENT
BEGIN:VEVENT
DTSTAMP:20250612T170000Z
DTSTART:20250612T170000Z
DTEND:20250612T170000Z
LOCATION:Aula der Grundschule Wentorf, Wohltorfer Weg 6, Wentorf bei Hamburg, 21465, Deutschland
SUMMARY:Mobilität auf dem Land - was muss sich ändern?
END:VEVENT
BEGIN:VEVENT
DTSTAMP:20250610T170000Z
DTSTART:20250610T170000Z
DTEND:20250610T170000Z
LOCATION:Rathaus, Sitzungsraum II (Raum 105), Deutschland
SUMMARY:Sitzung der CDU-Fraktion
END:VEVENT
BEGIN:VEVENT
DTSTAMP:20250606T140000Z
DTSTART:20250606T140000Z
DTEND:20250606T153000Z
LOCATION:Lohe Wentorf, Parkplatz, Deutschland
SUMMARY:Rundgang über die Lohe
END:VEVENT
BEGIN:VEVENT
DTSTAMP:20250605T173000Z
DTSTART:20250605T173000Z
DTEND:20250605T173000Z
LOCATION:Rathaus, Sitzungsraum II/III - R. 105/106, Deutschland
SUMMARY:Sitzung des Liegenschaftsausschusses
END:VEVENT
BEGIN:VEVENT
DTSTAMP:20250604T170000Z
DTSTART:20250604T170000Z
DTEND:20250604T170000Z
LOCATION:Quellenhof Mölln, Deutschland
SUMMARY:Kreisparteitag der CDU Herzogtum Lauenburg
END:VEVENT
BEGIN:VEVENT
DTSTAMP:20250602T170000Z
DTSTART:20250602T170000Z
DTEND:20250602T170000Z
LOCATION:Rathaus, Sitzungsraum II/III - R. 105/106, Deutschland
SUMMARY:Sitzung des Bürgerausschusses
END:VEVENT
BEGIN:VEVENT
DTSTAMP:20250527T170000Z
DTSTART:20250527T170000Z
DTEND:20250527T170000Z
LOCATION:Rathaus, Sitzungsraum II (Raum 105), Deutschland
SUMMARY:Sitzung der CDU-Fraktion
END:VEVENT
BEGIN:VEVENT
DTSTAMP:20250515T170000Z
DTSTART:20250515T170000Z
DTEND:20250515T170000Z
LOCATION:Rathaus, Sitzungsraum II/III - R. 105/106, Deutschland
SUMMARY:Sitzung des Finanzausschusses
END:VEVENT
BEGIN:VEVENT
DTSTAMP:20250513T170000Z
DTSTART:20250513T170000Z
DTEND:20250513T170000Z
LOCATION:Rathaus, Sitzungsraum II (Raum 105), Deutschland
SUMMARY:Sitzung der CDU-Fraktion
END:VEVENT
BEGIN:VEVENT
DTSTAMP:20250512T170000Z
DTSTART:20250512T170000Z
DTEND:20250512T170000Z
LOCATION:Rathaus, Sitzungsraum II/III - R. 105/106, Deutschland
SUMMARY:Sitzung des Hauptausschusses
END:VEVENT
BEGIN:VEVENT
DTSTAMP:20250505T170000Z
DTSTART:20250505T170000Z
DTEND:20250505T170000Z
LOCATION:Rathaus, Sitzungsraum II/III - R. 105/106, Deutschland
SUMMARY:Sitzung des Bürgerausschusses
END:VEVENT
BEGIN:VEVENT
DTSTAMP:20250430T160000Z
DTSTART:20250430T160000Z
DTEND:20250430T193000Z
LOCATION:Rathaus Wentorf, Hauptstraße 16, Wentorf, 21465, Deutschland
SUMMARY:Maifest der Freiwilligen Feuerwehr Wentorf
END:VEVENT
BEGIN:VEVENT
DTSTAMP:20250429T170000Z
DTSTART:20250429T170000Z
DTEND:20250429T170000Z
LOCATION:Rathaus, Sitzungsraum II (Raum 105), Deutschland
SUMMARY:Sitzung der CDU-Fraktion
END:VEVENT
BEGIN:VEVENT
DTSTAMP:20250409T173000Z
DTSTART:20250409T173000Z
DTEND:20250409T173000Z
LOCATION:Alte Schule, Teichstraße 1, Wentorf, 21465, Deutschland
SUMMARY:4. Wentorfer Gespräch
END:VEVENT
BEGIN:VEVENT
DTSTAMP:20250331T170000Z
DTSTART:20250331T170000Z
DTEND:20250331T170000Z
LOCATION:Rathaus, Sitzungsraum II/III - R. 105/106, Deutschland
SUMMARY:Sitzung des Bürgerausschusses
END:VEVENT
BEGIN:VEVENT
DTSTAMP:20250328T180000Z
DTSTART:20250328T180000Z
DTEND:20250328T180000Z
LOCATION:Alte Schule, Teichstraße 1, Wentorf, 21465, Deutschland
SUMMARY:Jahreshauptversammlung
END:VEVENT
BEGIN:VEVENT
DTSTAMP:20250327T180000Z
DTSTART:20250327T180000Z
DTEND:20250327T180000Z
LOCATION:Rathaus, Sitzungsraum II/III - R. 105/106, Hauptstraße 16, Wentorf bei Hamburg, 21465, Deutschland
SUMMARY:Sitzung des Planungs- und Umweltausschusses
END:VEVENT
BEGIN:VEVENT
DTSTAMP:20250325T180000Z
DTSTART:20250325T180000Z
DTEND:20250325T180000Z
LOCATION:Rathaus, Sitzungsraum II (Raum 105), Deutschland
SUMMARY:Sitzung der CDU-Fraktion
END:VEVENT
BEGIN:VEVENT
DTSTAMP:20250320T180000Z
DTSTART:20250320T180000Z
DTEND:20250320T180000Z
LOCATION:Rathaus, Sitzungsraum II/III - R. 105/106, Deutschland
SUMMARY:Sitzung der Gemeindevertretung
END:VEVENT
BEGIN:VEVENT
DTSTAMP:20250318T180000Z
DTSTART:20250318T180000Z
DTEND:20250318T180000Z
LOCATION:Rathaus, Sitzungsraum II/III - R. 105/106, Deutschland
SUMMARY:Sitzung des Finanzausschusses
END:VEVENT
BEGIN:VEVENT
DTSTAMP:20250317T180000Z
DTSTART:20250317T180000Z
DTEND:20250317T180000Z
LOCATION:Rathaus, Sitzungsraum II/III - R. 105/106, Deutschland
SUMMARY:Sitzung des Hauptausschusses
END:VEVENT
BEGIN:VEVENT
DTSTAMP:20250315T090000Z
DTSTART:20250315T090000Z
DTEND:20250315T110000Z
LOCATION:Rathaus Wentorf, Deutschland
SUMMARY:Frühjahrsputz - Unser sauberes Schleswig-Holstein
END:VEVENT
BEGIN:VEVENT
DTSTAMP:20250313T183000Z
DTSTART:20250313T183000Z
DTEND:20250313T183000Z
LOCATION:Rathaus, Sitzungsraum II/III - R. 105/106, Deutschland
SUMMARY:Sitzung des Liegenschaftsausschusses
END:VEVENT
BEGIN:VEVENT
DTSTAMP:20250311T180000Z
DTSTART:20250311T180000Z
DTEND:20250311T180000Z
LOCATION:Rathaus, Sitzungsraum II (Raum 105), Deutschland
SUMMARY:Sitzung der CDU-Fraktion
END:VEVENT
BEGIN:VEVENT
DTSTAMP:20250303T180000Z
DTSTART:20250303T180000Z
DTEND:20250303T180000Z
LOCATION:Rathaus, Sitzungsraum II/III - R. 105/106, Deutschland
SUMMARY:Sitzung des Bürgerausschusses
END:VEVENT
BEGIN:VEVENT
DTSTAMP:20250227T180000Z
DTSTART:20250227T180000Z
DTEND:20250227T180000Z
LOCATION:Rathaus, Sitzungsraum II/III - R. 105/106, Hauptstraße 16, Wentorf bei Hamburg, 21465, Deutschland
SUMMARY:Sitzung des Planungs- und Umweltausschusses
END:VEVENT
BEGIN:VEVENT
DTSTAMP:20250225T180000Z
DTSTART:20250225T180000Z
DTEND:20250225T180000Z
LOCATION:Rathaus, Sitzungsraum II (Raum 105), Deutschland
SUMMARY:Sitzung der CDU-Fraktion
END:VEVENT
END:VCALENDAR
